BEGIN:VCALENDAR
VERSION:2.0
PRODID:-//https://manly.org.au///NONSGML kigkonsult.se iCalcreator 2.10.15//
METHOD:PUBLISH
BEGIN:VEVENT
UID:20210301T061222UTC-0964ulGNeX@https://manly.org.au/
DTSTAMP:20210301T061222Z
DESCRIPTION:\n\nAFTERNOON ESCAPE TO QUARANTINE BEACH\n\n&nbsp\;\n\n\nEither
  kayak from Manly Wharf or drive to Q Station to enjoy this casual network
 ing on the shores of Sydney Harbour and take in this magnificent location.
 &nbsp\; All participants will&nbsp\;be&nbsp\;encouraged to share their sum
 mer stories and&nbsp\;business plans for 2021.\n\n** when booking please i
 ndicate either drive or kayak in comments **\nWhen: Wednesday 3rd March 20
 21\nKayak - 5.30pm: Meet Manly Kayak (front of Wharf Bar)\nDrive - 5.45pm:
  Park at Q Station for&nbsp\;shuttle to Quarantine Beach&nbsp\;\nCost: Mem
 bers - $15\, Non-members - $40\, Gold Members/Exec - Complimentary\nInclud
 es: Kayak to Quarantine Beach\, drink on arrival and nibbles\nPlease bring
  hat\, towel and swimmers\n\n\n\n\n\n https://manly.org.au/events/event/16
 3-networking-quarantine-beach-arrive-either-by-kayak-or-car
DTSTART:20210303T063000Z
DTEND:20210303T083000Z
LOCATION:Manly Wharf (East Side Pier\, next to Wharf Bar)
SUMMARY:Networking | Quarantine Beach arrive either by kayak or car!
URL:https://manly.org.au/events/event/163-networking-quarantine-beach-arriv
 e-either-by-kayak-or-car
END:VEVENT
BEGIN:VEVENT
UID:20210301T061222UTC-0974uT1JOU@https://manly.org.au/
DTSTAMP:20210301T061222Z
DESCRIPTION:\n\n\nINTERNATIONAL WOMEN'S DAY\n\nA challenged world is an ale
 rt world and from challenge comes change.&nbsp\; So let's all choose to ch
 allenge.&nbsp\; Join Manly Business Chamber&nbsp\;at Ruby Lane to celebrat
 e women's achievement.&nbsp\;\n\nWe will hear&nbsp\;from some of&nbsp\;our
  local leading business women to inspire you through 2021.\n\nThere will b
 e raffle prizes to raise money for Northern Beaches Community Centre who p
 rovide the&nbsp\;only front line service supporting domestic violence agai
 nst women.\n\n\nWhen: Monday 8 March 2021\nTime: 6.00pm to 9.00pm\nWhere: 
 Ruby Lane\, 200 Pittwater Road\, Manly\nCost: $99&nbsp\;per ticket\nInclud
 es: Local&nbsp\;3 course menu\, drink on arrival with matching wines / bee
 rs / mocktails&nbsp\;&nbsp\;\n\nMENU\n\nEntree\n\nPumpkin\, Parmesan &amp\
 ; Stracciatella Egg&nbsp\;\n\nProsecco on arrival by Box Grove Wines - Sar
 ah Gough is one of Australia’s top female wine makers\n\nMain&nbsp\; (Alte
 rnate Drop)\nMarnie’s’ Organic Chicken - Confit Leg\, Thyme &amp\; Lemon G
 rilled Breast\, Porcini Risotto\, Roast Heirloom Carrots\nOR\nCrisp Skin B
 lue Eye Trevalla Fillet\, Fennel Radicchio &amp\; Basil Butter\, Paris Mas
 h\n\nDessert\n\nPeach &amp\; Almond Milk tart\, Queenscliff Honey &amp\; M
 aca Gelato\, local raspberries&nbsp\;\n\nAll served with matching wines or
  mocktail infusions\n\nVegan options available &nbsp\;\n\nLimited tickets 
 available - secure you ticket now to not miss out.&nbsp\;\n\n\n\n\n\n http
 s://manly.org.au/events/event/165-international-women-s-day-at-ruby-lane
DTSTART:20210308T070000Z
DTEND:20210308T100000Z
LOCATION:Ruby Lane\, 200 Pittwater Rd\, Manly ()
SUMMARY:International Women's Day at Ruby Lane
URL:https://manly.org.au/events/event/165-international-women-s-day-at-ruby
 -lane
END:VEVENT
BEGIN:VEVENT
UID:20210301T061222UTC-0986N3h9RJ@https://manly.org.au/
DTSTAMP:20210301T061222Z
DESCRIPTION:4 Ball Ambrose Team Event with Shotgun start - Thursday 29 Apri
 l 2021\n\n\n\nWe are excited to confirm the Manly Business Chamber&nbsp\;G
 olf Day is back for 2021.&nbsp\;\nWhether you're a&nbsp\;seasoned golfer o
 r one who is just looking to enjoy the stunning course at Manly Golf Club\
 , this event will connect a wide group of Manly business operators in an a
 mazing location.\nOffering a full day of catering including lunch and fini
 shing with dinner and presentations at the clubhouse\, Thursday 29 April.
 \n\nWith prize giveaways for the longest drive\, straightest drive\, and n
 earest the hole there\, plus raffles and a putting competition\, it’s a da
 y not to be missed!\n\n* Single Player cost: $220\n\n* Team Sponsorship of
  a hole: $1000 including signage at a hole and 4 player spots\n\n\n\n\n\nF
 rom 10.30am:&nbsp\;Event Registration in the Champions Bar\n\n&nbsp\;&nbsp
 \;&nbsp\;&nbsp\;&nbsp\;&nbsp\;&nbsp\;&nbsp\;&nbsp\;&nbsp\;&nbsp\;&nbsp\;&n
 bsp\;&nbsp\;&nbsp\;&nbsp\;&nbsp\;&nbsp\;&nbsp\;&nbsp\;&nbsp\;&nbsp\;&nbsp\
 ;&nbsp\;&nbsp\;&nbsp\; Join the putting competition being run throughout t
 he morning and get your eye in and into the spirit!\n11.00am:&nbsp\;Lunch
 \n\n11.45am:&nbsp\;Welcome and briefing by Director of Golf\n12 noon: Shot
 gun Start\n\n&nbsp\;&nbsp\;&nbsp\;&nbsp\;&nbsp\;&nbsp\;&nbsp\;&nbsp\;&nbsp
 \;&nbsp\;&nbsp\;&nbsp\;&nbsp\;&nbsp\;&nbsp\;&nbsp\; Beer/wine/softdrink&nb
 sp\;and a snack&nbsp\;brought to you around the course\n\n4.45pm/5pm: Fiel
 d finishes\n\n5pm-7.30pm: Drinks\, dinner and presentation\n\n\n\nTo discu
 ss further please call Chantelle on 0411771401 or email Monique at admin@m
 anly.org.au \n\n \n\n\n\n* Please note that a direct deposit would be pref
 erred to avoid Paypal fees\n https://manly.org.au/events/event/166-the-man
 ly-chamber-2021-golf-day
DTSTART:20210429T003000Z
DTEND:20210429T093000Z
LOCATION:Manly Golf Club (38-40 Balgowlah Road\, Fairlight NSW 2094\, Austr
 alia)
SUMMARY:The Manly Chamber 2021 Golf Day
URL:https://manly.org.au/events/event/166-the-manly-chamber-2021-golf-day
END:VEVENT
END:VCALENDAR
